BEGIN:VCALENDAR
VERSION:2.0
PRODID:-// eRoom plugin //NONSGML v1.0//EN
CALSCALE:GREGORIAN
BEGIN:VEVENT
UID:eRoom-1776793505
SUMMARY:Explanation of Homework
LOCATION:Zoom
DESCRIPTION:4:00–4:30 pm     Instructor: Wilds\n\n---\n\nExplanation of
  Homework is inviting you to a scheduled Zoom meeting.\n\nJoin Zoom Meetin
 g\nhttps://ugagenealogy.zoom.us/j/86459323657?pwd=tCwEcfNMmrpXCSZBGhxUKKEV
 iIaC47.1\n\nMeeting ID: 86459323657\nPasscode: MyPassword\n
URL;VALUE=URI:https://ugagenealogy.zoom.us/j/86459323657?pwd=tCwEcfNMmrpXCSZBGhxUKKEViIaC47.1
DTSTART:20250130T160000Z
DTEND:20250130T160100Z
DTSTAMP:20260421T174505Z
BEGIN:VALARM
ACTION:DISPLAY
DESCRIPTION:Reminder
TRIGGER;RELATED=START:-PT15M
END:VALARM
END:VEVENT
END:VCALENDAR