BEGIN:VCALENDAR
VERSION:2.0
PRODID:-// eRoom plugin //NONSGML v1.0//EN
CALSCALE:GREGORIAN
BEGIN:VEVENT
UID:eRoom-1776770709
SUMMARY:Homework Assignment
LOCATION:Zoom
DESCRIPTION:6:30–7:00 pm           Instructor: Lyttle\n\n---\n\nHom
 ework Assignment is inviting you to a scheduled Zoom meeting.\n\nJoin Zoom
  Meeting\nhttps://ugagenealogy.zoom.us/j/84803704793?pwd=82X0xXCGRfImHtCwo
 xbQvxdF9aJXZZ.1\n\nMeeting ID: 84803704793\nPasscode: MyPassword\n
URL;VALUE=URI:https://ugagenealogy.zoom.us/j/84803704793?pwd=82X0xXCGRfImHtCwoxbQvxdF9aJXZZ.1
DTSTART:20250327T013000Z
DTEND:20250327T020000Z
DTSTAMP:20260421T112509Z
BEGIN:VALARM
ACTION:DISPLAY
DESCRIPTION:Reminder
TRIGGER;RELATED=START:-PT15M
END:VALARM
END:VEVENT
END:VCALENDAR