BEGIN:VCALENDAR
VERSION:2.0
PRODID:-// eRoom plugin //NONSGML v1.0//EN
CALSCALE:GREGORIAN
BEGIN:VEVENT
UID:eRoom-1776939118
SUMMARY:Legal Considerations: Plagiarism
LOCATION:Zoom
DESCRIPTION:5:15–6:30 pm           Instructor: Russell\n\n---\n\nLe
 gal Considerations: Plagiarism is inviting you to a scheduled Zoom meeting
 .\n\nJoin Zoom Meeting\nhttps://ugagenealogy.zoom.us/j/82423164849?pwd=jjD
 5CdfyInaR95W39SiRoQtwi6IKi0.1\n\nMeeting ID: 82423164849\nPasscode: MyPass
 word\n
URL;VALUE=URI:https://ugagenealogy.zoom.us/j/82423164849?pwd=jjD5CdfyInaR95W39SiRoQtwi6IKi0.1
DTSTART:20250417T001500Z
DTEND:20250417T001600Z
DTSTAMP:20260423T101158Z
BEGIN:VALARM
ACTION:DISPLAY
DESCRIPTION:Reminder
TRIGGER;RELATED=START:-PT15M
END:VALARM
END:VEVENT
END:VCALENDAR