BEGIN:VCALENDAR
VERSION:2.0
PRODID:-// eRoom plugin //NONSGML v1.0//EN
CALSCALE:GREGORIAN
BEGIN:VEVENT
UID:eRoom-1776938682
SUMMARY:Manuscript Collections
LOCATION:Zoom
DESCRIPTION:2:45–4:00 pm     Instructor: Abbott\n\n---\n\nManuscript Co
 llections is inviting you to a scheduled Zoom meeting.\n\nJoin Zoom Meetin
 g\nhttps://ugagenealogy.zoom.us/j/86963156373?pwd=y3fEmSD8dabNYxa9W3q90p82
 GGOdmI.1\n\nMeeting ID: 86963156373\nPasscode: MyPassword\n
URL;VALUE=URI:https://ugagenealogy.zoom.us/j/86963156373?pwd=y3fEmSD8dabNYxa9W3q90p82GGOdmI.1
DTSTART:20250130T224500Z
DTEND:20250130T224600Z
DTSTAMP:20260423T100442Z
BEGIN:VALARM
ACTION:DISPLAY
DESCRIPTION:Reminder
TRIGGER;RELATED=START:-PT15M
END:VALARM
END:VEVENT
END:VCALENDAR