BEGIN:VCALENDAR
VERSION:2.0
PRODID:-// eRoom plugin //NONSGML v1.0//EN
CALSCALE:GREGORIAN
BEGIN:VEVENT
UID:eRoom-1776611704
SUMMARY:New Englanders Elsewhere: Repositories and Resources Outside of New England
LOCATION:Zoom
DESCRIPTION:1:00–2:15 pm     Instructor: Taylor\nAs New Englanders migra
 ted into the Midwest\, their records and stories spread across the United 
 States. This session explores resources in key states across the U.S. and 
 international repositories\, including The National Archives (UK).\n\n---
 \n\nNew Englanders Elsewhere: Repositories and Resources Outside of New En
 gland is inviting you to a scheduled Zoom meeting.\n\nJoin Zoom Meeting\nh
 ttps://ugagenealogy.zoom.us/j/82041981017?pwd=Ib8K9W4CAQE1vmabUdqoDwwdFB9h
 rT.1\n\nMeeting ID: 82041981017\nPasscode: MyPassword\n
URL;VALUE=URI:https://ugagenealogy.zoom.us/j/82041981017?pwd=Ib8K9W4CAQE1vmabUdqoDwwdFB9hrT.1
DTSTART:20250130T210000Z
DTEND:20250130T210100Z
DTSTAMP:20260419T151504Z
BEGIN:VALARM
ACTION:DISPLAY
DESCRIPTION:Reminder
TRIGGER;RELATED=START:-PT15M
END:VALARM
END:VEVENT
END:VCALENDAR